BEGIN:VCALENDAR
VERSION:2.0
PRODID:-// - ECPv6.15.8//NONSGML v1.0//EN
CALSCALE:GREGORIAN
METHOD:PUBLISH
X-ORIGINAL-URL:https://fiatal.katolikus.hu
X-WR-CALDESC:Események 
REFRESH-INTERVAL;VALUE=DURATION:PT1H
X-Robots-Tag:noindex
X-PUBLISHED-TTL:PT1H
BEGIN:VTIMEZONE
TZID:UTC
BEGIN:STANDARD
TZOFFSETFROM:+0000
TZOFFSETTO:+0000
TZNAME:UTC
DTSTART:20230101T000000
END:STANDARD
END:VTIMEZONE
BEGIN:VEVENT
DTSTART;VALUE=DATE:20251228
DTEND;VALUE=DATE:20260102
DTSTAMP:20260422T000421
CREATED:20251022T061307Z
LAST-MODIFIED:20251022T061307Z
UID:7813-1766880000-1767311999@fiatal.katolikus.hu
SUMMARY:Taizéi találkozó Párizsban
DESCRIPTION:Az év végi találkozóra​ közös szervezésű buszok is indulnak Magyarországról a KIM iroda szervezésében. \nJelentkezés\, utazással és költségekkel kapcsolatos tájékoztatás a KIM (Katolikus Ifjúsági Mozgalom) honlapján lehet.
URL:https://fiatal.katolikus.hu/program/taizei-talalkozo-parizsban/
LOCATION:Párizs\, Paris\, France
CATEGORIES:Nemzetközi programok
END:VEVENT
BEGIN:VEVENT
DTSTART;TZID=UTC:20251115T130000
DTEND;TZID=UTC:20251115T190000
DTSTAMP:20260422T000421
CREATED:20251022T060312Z
LAST-MODIFIED:20251022T060312Z
UID:7805-1763211600-1763233200@fiatal.katolikus.hu
SUMMARY:Forráspont 2025
DESCRIPTION:Program\n\n\n\n\n\nnovember 15.\, szombat\, 13.00-19.00\n\n\n\n\n\n\n\n\n\n\n\n\n11:00 Kapunyitás \n  \n13:00 órától\nZenés dicsőítés \nTanúságtételek:\nForczek Krisztina\, Berki Tamás \n  \n14:15 Szünet \n  \n  \n14:45 órától\nTanítás: Riesz Domonkos atya\n \nSzentségimádás – alatta gyónási lehetőséggel \n  \n16:45 Szünet \n  \n17:15 Szentmise (főcelebráns: Dr. Székely János püspök) \nZenés dicsőítés \n  \n19:00 Esemény várható vége \n\n\n\n\n\n\n\n\nRegisztráció\n\n  \nMielőtt regisztrálnál\, figyelmesen olvasd el a jelentkezési tudnivalókat a honlapon. \n  \nTovábbi tudnivalók a program honlapján.
URL:https://fiatal.katolikus.hu/program/forraspont-2025/
LOCATION:MTK Sportpark\, Budapest Brüll Alfréd Utca 2. 1087
CATEGORIES:Országos programok
ATTACH;FMTTYPE=image/png:https://fiatal.katolikus.hu/wp-content/uploads/2025/10/fp_2025_a4_kk-1.png
END:VEVENT
BEGIN:VEVENT
DTSTART;VALUE=DATE:20251026
DTEND;VALUE=DATE:20251027
DTSTAMP:20260422T000421
CREATED:20251020T124957Z
LAST-MODIFIED:20251020T124957Z
UID:7792-1761436800-1761523199@fiatal.katolikus.hu
SUMMARY:#TekerjMagdival – Magdi Ünnep
DESCRIPTION:Pontosan miről is van szó: \nMagdi 1941. október 26-án Balatonfűzfőn\, a templomban tisztasági fogadalmat tett. Ez a nap lett a boldoggá avatott fiatal vértanú lány liturgikus emléknapja a magyar katolikus egyházban\, amelyet egy ifjúsági kerékpáros zarándoklattal is szeretnénk megünnepelni ott\, ahol Magdi is élt a Balaton-felvidéken\, és ahol a fogadalmát tette. \nNagy szeretettel várunk 2025. október 26-án vasárnap 08:45 -től a balatonfüredi vasútállomáson (a Budapestről induló 07:12-es vonatot megvárjuk). \nEgy rövid ima és tájékoztató után 09:30-kor indulunk. \nTudnivalók: \n\nÚtvonalunk és a várható program:\n\n09:30 indulás Balatonfüredről \n11:30 Balatonfűzfőn körmenet Magdi-ereklyével\, majd imádság a templomban \nebéd Balatonfűzfőn \nLitér: megemlékezés a vértanúság helyén \n16:00 óra körül érkezés Veszprémbe \n16:30 vezetés a felszentelt Szent Mihály Bazilikában és Altemplomban\, a Szent György Kápolnában és a Gizella Kápolnában \n18:00 ünnepi szentmise Veszprémben\, a Szent Mihály Főszékesegyházban \nVeszprémben a szentmisének várhatóan 19:00 órakor lesz vége. \nVeszprémből egyénileg kell megoldani a hazajutást (óránként vannak vonatok Budapest felé). \nJelentkezési határidő: 2025. október 23. csütörtök 12:00 óráig \nElőző nap szombaton Balatonfűzfőn 19:00 órától vasárnap 07:00 óráig 12 órás szentségimádás lesz. Aki ezen szeretne részt venni\, annak Balatonfűzfőn kollégiumi helyet tudunk biztosítani\, ezt a jelentkezési lapon lehet igényelni. \nKöltség-hozzájárulás: \nfiataloknak 30 éves korig 3.000 Ft \n30 év felettieknek 6.000 Ft \namit kérnénk\, hogy a jelentkezési határidőig fizess is be a díjbekérőn megjelölt  számlaszámra: \nA közlemény rovatba a díjbekérő számát kérjük beírni. \nCsoportokban kerékpározunk\, de az útvonalat egyénileg is be lehet járni bevárópontokkal. \nA zarándoklat maximális létszáma 45 fő. \nA kerékpáros zarándoklaton 30 felettiek is részt vehetnek\, de ők a fiataloktól külön szekcióban fognak haladni és a programok is eltérhetnek. \nCsomagszállítást biztosítunk\, de a kerékpározáshoz szükséges alapvető dolgokat magadnak kell vinned. \nHa valami miatt mégsem tudsz eljönni\, a befizetett költség-hozzájárulást nincs módunkban visszafizetni. \nA zarándoklat további tudnivalóiról a jelentkezőnek részletes információt fogunk küldeni. \nTámogatás \n\nSzimpatikus a program számodra és szeretnél segíteni abban\, hogy minél több fiatalt el tudjunk vinni alacsony áron?\nMegteheted\, hogy részvételi díjad mellett adománnyal is támogatod a zarándoklatot?\n\nAdományod az alábbi számlaszámra utalhatod: \nMKPK Ifjúsági Bizottsága 11100104-18167010-37000004\, a közlemény rovatba az „adomány” szót kérjük beírni. \nHálásan köszönjük\, és támogatóinkért a zarándoklaton külön imádkozni fogunk! \nHálásak vagyunk\, ha terjeszted az eseményt: szólsz barátaidnak\, éppen a Balatonnál hosszú hétvégét töltő ismerősödnek. Ha lehetőséged van a plakátot kinyomtatni (plakát) és kitenni\, azt is nagyon köszönjük! \nKérdés esetén ide írhatsz: tekerjmagdival@katolikus.hu \n  \n\nJelentkezés
URL:https://fiatal.katolikus.hu/program/tekerjmagdival-magdi-unnep/
LOCATION:Balatonfüred – Veszprém
CATEGORIES:Országos programok
ATTACH;FMTTYPE=image/jpeg:https://fiatal.katolikus.hu/wp-content/uploads/2025/10/Banner_nagyobb-felbontas_okt_26.jpg
END:VEVENT
BEGIN:VEVENT
DTSTART;TZID=UTC:20250825T080000
DTEND;TZID=UTC:20250825T170000
DTSTAMP:20260422T000421
CREATED:20250825T124254Z
LAST-MODIFIED:20250825T131054Z
UID:7576-1756108800-1756141200@fiatal.katolikus.hu
SUMMARY:TekerjMagdival
DESCRIPTION:
URL:https://fiatal.katolikus.hu/2025/03/26/tekerjmagdival/#new_tab
ATTACH;FMTTYPE=image/jpeg:https://fiatal.katolikus.hu/wp-content/uploads/2025/03/TekerjMagdival_szeptember6OK2.jpg
END:VEVENT
BEGIN:VEVENT
DTSTART;VALUE=DATE:20250821
DTEND;VALUE=DATE:20250825
DTSTAMP:20260422T000421
CREATED:20250630T094741Z
LAST-MODIFIED:20250630T100026Z
UID:7290-1755734400-1756079999@fiatal.katolikus.hu
SUMMARY:Lelkes Night&Day
DESCRIPTION:
URL:https://www.lelkesnapok.hu/#new_tab
CATEGORIES:Országos programok
ATTACH;FMTTYPE=image/png:https://fiatal.katolikus.hu/wp-content/uploads/2025/06/Kepernyokep-2025-06-30-114714.png
END:VEVENT
BEGIN:VEVENT
DTSTART;VALUE=DATE:20250814
DTEND;VALUE=DATE:20250821
DTSTAMP:20260422T000421
CREATED:20250630T094552Z
LAST-MODIFIED:20250630T100026Z
UID:7287-1755129600-1755734399@fiatal.katolikus.hu
SUMMARY:Ferences Ifjúsági Zarándoklat
DESCRIPTION:
URL:https://www.ferencesek.hu/zarandoklat/#new_tab
CATEGORIES:Országos programok
ATTACH;FMTTYPE=image/png:https://fiatal.katolikus.hu/wp-content/uploads/2025/06/Kepernyokep-2025-06-30-114526.png
END:VEVENT
BEGIN:VEVENT
DTSTART;VALUE=DATE:20250812
DTEND;VALUE=DATE:20250817
DTSTAMP:20260422T000421
CREATED:20250630T094324Z
LAST-MODIFIED:20250630T100026Z
UID:7284-1754956800-1755388799@fiatal.katolikus.hu
SUMMARY:Tini Lelkes Napok
DESCRIPTION:
URL:https://www.lelkesnapok.hu/#new_tab
CATEGORIES:Országos programok
ATTACH;FMTTYPE=image/png:https://fiatal.katolikus.hu/wp-content/uploads/2025/06/Kepernyokep-2025-06-30-114303.png
END:VEVENT
BEGIN:VEVENT
DTSTART;VALUE=DATE:20250811
DTEND;VALUE=DATE:20250817
DTSTAMP:20260422T000421
CREATED:20250630T094132Z
LAST-MODIFIED:20250630T100026Z
UID:7282-1754870400-1755388799@fiatal.katolikus.hu
SUMMARY:HEGY Keresztény Gólyatábor
DESCRIPTION:
URL:https://www.hittelazegyetemen.hu/#new_tab
CATEGORIES:Országos programok
ATTACH;FMTTYPE=image/png:https://fiatal.katolikus.hu/wp-content/uploads/2024/06/HEGY_logo512.png
END:VEVENT
BEGIN:VEVENT
DTSTART;VALUE=DATE:20250807
DTEND;VALUE=DATE:20250811
DTSTAMP:20260422T000421
CREATED:20250630T093344Z
LAST-MODIFIED:20250630T100026Z
UID:7279-1754524800-1754870399@fiatal.katolikus.hu
SUMMARY:STÉG Szalézi TóFesztivál
DESCRIPTION:
URL:https://szalim.hu/aktualis-esemenyeink/#new_tab
CATEGORIES:Országos programok
ATTACH;FMTTYPE=image/png:https://fiatal.katolikus.hu/wp-content/uploads/2025/06/Steg-plakat-2025-2.png
END:VEVENT
BEGIN:VEVENT
DTSTART;TZID=UTC:20250803T080000
DTEND;TZID=UTC:20250810T170000
DTSTAMP:20260422T000421
CREATED:20250630T093116Z
LAST-MODIFIED:20250630T100026Z
UID:7276-1754208000-1754845200@fiatal.katolikus.hu
SUMMARY:KAZETTA
DESCRIPTION:
URL:https://kazetta.katolikus.hu/2025/04/megnyilt-a-jelentkezes-a-2025-os-kazettara/#new_tab
CATEGORIES:Országos programok
ATTACH;FMTTYPE=image/png:https://fiatal.katolikus.hu/wp-content/uploads/2025/06/Kocka-promo-2025.png
END:VEVENT
BEGIN:VEVENT
DTSTART;VALUE=DATE:20250721
DTEND;VALUE=DATE:20250726
DTSTAMP:20260422T000421
CREATED:20250630T092700Z
LAST-MODIFIED:20250630T100026Z
UID:7273-1753056000-1753487999@fiatal.katolikus.hu
SUMMARY:BoscoFeszt
DESCRIPTION:
URL:https://szalim.hu/boscofeszt/#new_tab
CATEGORIES:Országos programok
ATTACH;FMTTYPE=image/jpeg:https://fiatal.katolikus.hu/wp-content/uploads/2025/06/BoscoFeszt-plakat-2025-allo-1-724x1024-1.jpg
END:VEVENT
BEGIN:VEVENT
DTSTART;VALUE=DATE:20250717
DTEND;VALUE=DATE:20250721
DTSTAMP:20260422T000421
CREATED:20250630T090359Z
LAST-MODIFIED:20250630T100026Z
UID:7270-1752710400-1753055999@fiatal.katolikus.hu
SUMMARY:22+ Görögkatolikus Zarándoklat
DESCRIPTION:
URL:https://www.ifjusagizarandoklat.hu/#new_tab
CATEGORIES:Országos programok
ATTACH;FMTTYPE=image/png:https://fiatal.katolikus.hu/wp-content/uploads/2025/06/Kepernyokep-2025-06-30-110334.png
END:VEVENT
BEGIN:VEVENT
DTSTART;VALUE=DATE:20250716
DTEND;VALUE=DATE:20250721
DTSTAMP:20260422T000421
CREATED:20250630T090027Z
LAST-MODIFIED:20250630T100026Z
UID:7267-1752624000-1753055999@fiatal.katolikus.hu
SUMMARY:Tábor Hegyi Napok 2025
DESCRIPTION:
URL:https://www.hittelazegyetemen.hu/#new_tab
CATEGORIES:Országos programok
ATTACH;FMTTYPE=image/png:https://fiatal.katolikus.hu/wp-content/uploads/2025/06/Kepernyokep-2025-06-30-110000.png
END:VEVENT
BEGIN:VEVENT
DTSTART;VALUE=DATE:20250710
DTEND;VALUE=DATE:20250714
DTSTAMP:20260422T000421
CREATED:20250630T085727Z
LAST-MODIFIED:20250630T100026Z
UID:7264-1752105600-1752451199@fiatal.katolikus.hu
SUMMARY:Egerszalóki Ifjúsági Találkozó és Lelkigyakorlat
DESCRIPTION:
URL:https://www.facebook.com/szalok#new_tab
CATEGORIES:Országos programok
ATTACH;FMTTYPE=image/jpeg:https://fiatal.katolikus.hu/wp-content/uploads/2025/06/476086434_1042981884532596_943598046957491289_n.jpg
END:VEVENT
BEGIN:VEVENT
DTSTART;VALUE=DATE:20250709
DTEND;VALUE=DATE:20250714
DTSTAMP:20260422T000421
CREATED:20250630T085332Z
LAST-MODIFIED:20250630T100026Z
UID:7261-1752019200-1752451199@fiatal.katolikus.hu
SUMMARY:Ébresztő Fesztivál
DESCRIPTION:
URL:https://www.ebresztofesztival.hu/#new_tab
CATEGORIES:Országos programok
ATTACH;FMTTYPE=image/png:https://fiatal.katolikus.hu/wp-content/uploads/2025/06/Kepernyokep-2025-06-30-105309.png
END:VEVENT
BEGIN:VEVENT
DTSTART;VALUE=DATE:20250707
DTEND;VALUE=DATE:20250713
DTSTAMP:20260422T000421
CREATED:20250630T085032Z
LAST-MODIFIED:20250630T100026Z
UID:7258-1751846400-1752364799@fiatal.katolikus.hu
SUMMARY:LELKES NAPOK
DESCRIPTION:
URL:https://www.lelkesnapok.hu/#new_tab
CATEGORIES:Országos programok
ATTACH;FMTTYPE=image/png:https://fiatal.katolikus.hu/wp-content/uploads/2025/06/Kepernyokep-2025-06-30-104823.png
END:VEVENT
BEGIN:VEVENT
DTSTART;VALUE=DATE:20250705
DTEND;VALUE=DATE:20250713
DTSTAMP:20260422T000421
CREATED:20250630T084444Z
LAST-MODIFIED:20250630T100026Z
UID:7255-1751673600-1752364799@fiatal.katolikus.hu
SUMMARY:SZENT BENEDEK ZARÁNDOKLAT
DESCRIPTION:
URL:https://szentbenedekzarandoklat.hu/#new_tab
CATEGORIES:Országos programok
ATTACH;FMTTYPE=image/png:https://fiatal.katolikus.hu/wp-content/uploads/2025/06/Kepernyokep-2025-06-30-104401.png
END:VEVENT
BEGIN:VEVENT
DTSTART;TZID=UTC:20241123T140000
DTEND;TZID=UTC:20241123T190000
DTSTAMP:20260422T000421
CREATED:20240610T092537Z
LAST-MODIFIED:20241022T125850Z
UID:6111-1732370400-1732388400@fiatal.katolikus.hu
SUMMARY:Forráspont
DESCRIPTION:Program: \n12:30 Kapunyitás \n  \n14:00 órától\nZenés dicsőítés \nTanúságtételek:\nHorváth Kristóf\, Andrásfalvy Mirjám\, Benkovics Péter \nBeszélgetés Gulyás Michelle olimpiai bajnokkal \nTanítás: Dr. Gájer László atya \n  \n15:30 Szünet \n  \n16:00 órától\nTáncjáték – premier \nSzentségimádás – alatta gyónási lehetőséggel \n  \n17:15 Szünet \n  \n17:45 Szentmise (főcelebráns: Dr. Fábry Kornél püspök) \n19:00 Esemény várható vége \n  \nRegisztráció és további információ az esemény honlapján.
URL:https://fiatal.katolikus.hu/program/forraspont/
LOCATION:BOK Sportcsarnok\, A-pavilon\, Dózsa György út 1.\, Budapest\, 1146
CATEGORIES:Országos programok
ATTACH;FMTTYPE=image/jpeg:https://fiatal.katolikus.hu/wp-content/uploads/2024/06/plakat_2024-scaled.jpg
END:VEVENT
BEGIN:VEVENT
DTSTART;TZID=UTC:20241019T093000
DTEND;TZID=UTC:20241019T170000
DTSTAMP:20260422T000421
CREATED:20240916T094834Z
LAST-MODIFIED:20240916T094834Z
UID:6461-1729330200-1729357200@fiatal.katolikus.hu
SUMMARY:Imahely
DESCRIPTION:Szia! \nJó\, hogy itt vagy!\nArra hívunk ezen a napon\, hogy jobban megismerd Istent\, mélyüljön a Vele való kapcsolatod. És így a mindennapokban az ima által megújuljon az életed.\nA nap során remek előadást hallhatunk Gájer László atyától\, majd a délután folyamán több műhely közül lehet választani\, végül pedig dicsőítésben oda lépünk Isten elé.\n\n  \nHelyszín: Katolikus Pedagógiai Intézet (1068 Budapest\, Városligeti fasor 42.) \n\nIdőpont:  2024. október 19. 9:30-17:00 \n\n  \nKözreműködik: Gájer László\, Zics Ildikó SSS\, Babos Áron\, Füzér Donát \n\n\n\n  \nJelentkezni az alábbi űrlapon lehet október 7-ig. Várunk minden 14-35 év közötti fiatalt! \n\n\n\n\n\n\n\n\nJelentkezem\n\n\n\n\n\n\n\nA program facebook eseményét ITT találod.\nBármilyen kérdésed van\, keress bátran minket az ebp.ifjusagiiroda@gmail.com címen. \n\n\n  \nVárunk szeretettel!
URL:https://fiatal.katolikus.hu/program/imahely/
ATTACH;FMTTYPE=image/jpeg:https://fiatal.katolikus.hu/wp-content/uploads/2024/09/imahely_weboldal_borito.jpg
END:VEVENT
BEGIN:VEVENT
DTSTART;VALUE=DATE:20241010
DTEND;VALUE=DATE:20241014
DTSTAMP:20260422T000421
CREATED:20240624T085038Z
LAST-MODIFIED:20240624T085045Z
UID:6176-1728518400-1728863999@fiatal.katolikus.hu
SUMMARY:72 óra kompromisszum nélkül
DESCRIPTION:2024. októberében újra megszervezésre kerül a 72 óra kompromisszum nélkül országos önkéntes akció. Október 10. és 13. között lehet majd csatlakozni a közös munkálkodáshoz. \nAz akcióra való regisztráció kezdete: 2024. augusztus 1. \nAz aktuális tudnivalókat a program honlapján követhetitek: https://www.72ora.hu/
URL:https://fiatal.katolikus.hu/program/72-ora-kompromisszum-nelkul/
CATEGORIES:Nemzetközi programok,Országos programok
ATTACH;FMTTYPE=image/jpeg:https://fiatal.katolikus.hu/wp-content/uploads/2024/06/72h.jpg
END:VEVENT
BEGIN:VEVENT
DTSTART;VALUE=DATE:20241005
DTEND;VALUE=DATE:20241006
DTSTAMP:20260422T000421
CREATED:20240624T084416Z
LAST-MODIFIED:20240624T084416Z
UID:6171-1728086400-1728172799@fiatal.katolikus.hu
SUMMARY:Nagymaros 50
DESCRIPTION:Október 5-én különleges találkozóra kerül sor Nagymaroson\, nosztalgiázhatunk az elmúlt 50 év emlékeivel és lendületet vehetünk a következő 50-re! \n  \nRészleteket nemsokára a program honlapján találtok: https://nagymaros.katolikus.hu/ \n  \nA szervezőkkel készült interjút pedig megnézhetitek a youtube-on.
URL:https://fiatal.katolikus.hu/program/nagymaros-50/
LOCATION:Nagymaros\, Nagymaros\, Magyarország
CATEGORIES:Országos programok
ATTACH;FMTTYPE=image/jpeg:https://fiatal.katolikus.hu/wp-content/uploads/2024/06/NM50.jpg
END:VEVENT
BEGIN:VEVENT
DTSTART;VALUE=DATE:20240921
DTEND;VALUE=DATE:20240923
DTSTAMP:20260422T000421
CREATED:20240903T073838Z
LAST-MODIFIED:20240903T073838Z
UID:6410-1726876800-1727049599@fiatal.katolikus.hu
SUMMARY:Országos Egyetemista Zarándoklat
DESCRIPTION:A program: \nSzeptember 21. szombat: \n9:30 – gyülekező a salgótarján-zagyvapálfalvai Jézus Szíve-templomnál (Salgótarján\, Budapesti út 55.) \n9:45 – indulás Mátraverebély-Szentkútra \nÉrkezés délután\, szálláshelyek elfoglalása a zarándokházban \n18:00 – szentmise \n19:00 – vacsora \n20:15-22:00 – dicsőítő imaest a ferences szegénygondozó nővérekkel \n  \nSzeptember 22. vasárnap \n8:00 – reggeli \nA délelőtt folyamán szentgyónási lehetőség és katekézis az imádságról \n11:00 – szentmise és körmenet \n13:00 – ebéd\, búcsúzás
URL:https://fiatal.katolikus.hu/program/orszagos-egyetemista-zarandoklat-2/
ATTACH;FMTTYPE=image/png:https://fiatal.katolikus.hu/wp-content/uploads/2024/09/egyetem-Matraverebely.png
END:VEVENT
BEGIN:VEVENT
DTSTART;VALUE=DATE:20240813
DTEND;VALUE=DATE:20240818
DTSTAMP:20260422T000421
CREATED:20240624T100138Z
LAST-MODIFIED:20240624T100138Z
UID:6183-1723507200-1723939199@fiatal.katolikus.hu
SUMMARY:Tini Lelkes Napok
DESCRIPTION:Helyszín: VSZK Kollégium – 8360 Keszthely\, Mártírok útja 1. \nIdőpont: 2024.08. 13-17. kedd 14:00 – szombat 14:00 \nA jelentkezés és a részvételi díj átutalás határideje: 2024. július 23. kedd. \nTovábbi részletes tudnivalók a program honlapján olvashatók.
URL:https://fiatal.katolikus.hu/program/tini-lelkes-napok/
LOCATION:Keszthely\, Fő tér 10.\, Keszthely\, Zala\, 8360
CATEGORIES:Országos programok
ATTACH;FMTTYPE=image/png:https://fiatal.katolikus.hu/wp-content/uploads/2024/06/Tini-Lelkes-Napok-Facebook-esemeny-borito-1920-x-1080-keppont.png
END:VEVENT
BEGIN:VEVENT
DTSTART;VALUE=DATE:20240805
DTEND;VALUE=DATE:20240811
DTSTAMP:20260422T000421
CREATED:20240624T101020Z
LAST-MODIFIED:20240624T101020Z
UID:6186-1722816000-1723334399@fiatal.katolikus.hu
SUMMARY:HEGY Keresztény Gólyatábor
DESCRIPTION:Változatos és izgalmas programok jellemzik a tábort\, melyek ilyen formában egy egyetemi gólyatáborra nem jellemzőek. Íme itt van néhány kedvcsinálónak a teljesség igénye nélkül\, azért\, hogy a többi meglepetés maradjon a táborig. Hasznos egyetemi infókat kaphattok felsőbbévesektől szakspecifikusan\, e mellett bemutatjuk azokat a keresztény ifjúsági közösségeket is\, amelyekhez érdemes csatlakozni. Lelki és testi feltöltődésre egyaránt lesz lehetőségetek\, az előbbire az imaest és a szentmise keretében\, utóbbira pedig a sportprogramok kapcsán. Végül\, de nem utolsó sorban egy fergeteges\, mámoros táncmulatság koronázza meg az együtt töltött napokat. \n  \nTovábbi információk és jelentkezés az esemény honlapján.
URL:https://fiatal.katolikus.hu/program/hegy-kereszteny-golyatabor-2/
ATTACH;FMTTYPE=image/png:https://fiatal.katolikus.hu/wp-content/uploads/2024/06/HEGY_logo512.png
END:VEVENT
BEGIN:VEVENT
DTSTART;VALUE=DATE:20240725
DTEND;VALUE=DATE:20240729
DTSTAMP:20260422T000421
CREATED:20240514T094840Z
LAST-MODIFIED:20240514T094840Z
UID:6018-1721865600-1722211199@fiatal.katolikus.hu
SUMMARY:STÉG Szalézi TóFesztivál
DESCRIPTION:IDŐPONT: 2024. július 25-28.\, csütörtöktől vasárnapig\nÉrkezés: július 25-én 16:00-tól. Az első tervezett program 17:30-kor kezdődik.\nTávozás: július 28-án\, vasárnap délután ér véget a program.\nHELYSZÍN: Péliföldszentkereszt\, Szalézi Rendház és Lelkigyakorlatos Ház\n(2533 Bajót-Péliföldszentkereszt Pf. 3)\n\n  \nTovábbi tudnivalók é jelentkezés az esemény honlapján.
URL:https://fiatal.katolikus.hu/program/steg-szalezi-tofesztival-3/
LOCATION:Péliföldszentkereszt\, Péliföldszentkereszt\, Magyarország
CATEGORIES:Országos programok
ATTACH;FMTTYPE=image/png:https://fiatal.katolikus.hu/wp-content/uploads/2024/05/STEG.png
END:VEVENT
BEGIN:VEVENT
DTSTART;VALUE=DATE:20240724
DTEND;VALUE=DATE:20240729
DTSTAMP:20260422T000421
CREATED:20240717T112020Z
LAST-MODIFIED:20240717T112020Z
UID:6241-1721779200-1722211199@fiatal.katolikus.hu
SUMMARY:Tiszafit
DESCRIPTION:Az eseményről minden fontos tudnivaló megtalálható a facebook oldalukon\, a regisztrációs link innen is elérhető.
URL:https://fiatal.katolikus.hu/program/tiszafit/
LOCATION:Tiszafüred
CATEGORIES:Egyházmegyei programok
ATTACH;FMTTYPE=image/jpeg:https://fiatal.katolikus.hu/wp-content/uploads/2024/07/TF.jpg
END:VEVENT
BEGIN:VEVENT
DTSTART;VALUE=DATE:20240718
DTEND;VALUE=DATE:20240722
DTSTAMP:20260422T000421
CREATED:20240610T093959Z
LAST-MODIFIED:20240610T093959Z
UID:6119-1721260800-1721606399@fiatal.katolikus.hu
SUMMARY:Egerszalók
DESCRIPTION:A 42 éves múltra visszatekintő és az ország legnagyobb katolikus ifjúsági találkozója várja idén is a régi és új szalókosokat.A találkozón való részvétel ingyenes\, de regisztrációhoz kötött.\nRészleteket a találkozó facebook oldalán\, vagy az egyházmegye honlapján találtok.
URL:https://fiatal.katolikus.hu/program/egerszalok/
CATEGORIES:Országos programok
ATTACH;FMTTYPE=image/jpeg:https://fiatal.katolikus.hu/wp-content/uploads/2024/06/egerszalok.jpg
END:VEVENT
BEGIN:VEVENT
DTSTART;VALUE=DATE:20240717
DTEND;VALUE=DATE:20240722
DTSTAMP:20260422T000421
CREATED:20240610T094911Z
LAST-MODIFIED:20240610T094911Z
UID:6124-1721174400-1721606399@fiatal.katolikus.hu
SUMMARY:Tábor Hegyi Napok
DESCRIPTION:Idén is megrendezzük a Tábor Hegyi Napokat\, 2024. július 17-21. között Homokkomáromban\, 16 és 35 év közti fiataloknak. A téma : „Keresd a békét” (Zsolt 31\,15). Bővebb információért és a jelentkezéshez IDE kattints. \nA programról egy cikket is találsz ezen a linken.
URL:https://fiatal.katolikus.hu/program/tabor-hegyi-napok-3/
ATTACH;FMTTYPE=image/png:https://fiatal.katolikus.hu/wp-content/uploads/2024/06/tnh.png
END:VEVENT
BEGIN:VEVENT
DTSTART;VALUE=DATE:20240716
DTEND;VALUE=DATE:20240722
DTSTAMP:20260422T000421
CREATED:20240701T094543Z
LAST-MODIFIED:20240701T094543Z
UID:6199-1721088000-1721606399@fiatal.katolikus.hu
SUMMARY:GENFEST 2024 - EASTERN EUROPE
DESCRIPTION:Helyszín: Esztergom \nIdőpont: 2024 július 16-21. \nelőtalálkozó: 16-18. \nfőtalálkozó: 18-21. \nA találkozót a Fokolare Mozgalom szervezi\, kapcsolódva a Brazíliában megrendezett nemzetközi programba. \nRészletes információk\, program és regisztráció a Mozgalom honlapján elérhető.
URL:https://fiatal.katolikus.hu/program/genfest-2024-eastern-europe/
CATEGORIES:Országos programok
ATTACH;FMTTYPE=image/jpeg:https://fiatal.katolikus.hu/wp-content/uploads/2024/07/genfest.jpg
END:VEVENT
BEGIN:VEVENT
DTSTART;VALUE=DATE:20240715
DTEND;VALUE=DATE:20240720
DTSTAMP:20260422T000421
CREATED:20240514T094116Z
LAST-MODIFIED:20240514T094158Z
UID:6013-1721001600-1721433599@fiatal.katolikus.hu
SUMMARY:BoscoFest
DESCRIPTION:IDŐPONT: 2024. július 15-19.\, hétfőtől péntekig\nÉrkezés: Július 15-én\, hétfőn 10:00-tól.\nTávozás: Július 19-én\, pénteken délután ér véget a program.\nHELYSZÍN: Péliföldszentkereszt\, Szalézi Rendház és Lelkigyakorlatos Ház\n(2533 Bajót-Péliföldszentkereszt Pf. 3)\n\n  \nTovábbi tudnivalók és jelentkezés az esemény honlapján.
URL:https://fiatal.katolikus.hu/program/boscofest/
LOCATION:Péliföldszentkereszt\, Péliföldszentkereszt\, Magyarország
CATEGORIES:Országos programok
ATTACH;FMTTYPE=image/png:https://fiatal.katolikus.hu/wp-content/uploads/2024/05/BoscoFeszt.png
END:VEVENT
END:VCALENDAR